BEGIN:VCALENDAR
VERSION:1.0
PRODID:SSPCA Web Calendar
TZ:-07
BEGIN:VEVENT
LOCATION:Online - Audio & Slides Webcast
SUMMARY:Capital Link - The Reality of Real Estate Investing - Looking Beyond the Myths
DESCRIPTION;ENCODING=QUOTED-PRINTABLE: The Reality of Real Estate Investing - Looking Beyond the Myths. =0D=0A Presented by Cohen & Steers =0D=0A Featured Speakers: Mr. Terrance Ober, Senior Vice President, Cohen & Steers & Mr. Anthony Ialeggio, Senior Vice President, Director of Global Marketing, Cohen & Steers =0D=0A For more details visit:   http://webinars.capitallink.com/2011/cohen_june/index.html
DTSTART:20110609T150000Z
DTEND:20110609T160000Z
END:VEVENT
END:VCALENDAR
