BEGIN:VCALENDAR
VERSION:1.0
PRODID:SSPCA Web Calendar
TZ:-07
BEGIN:VEVENT
LOCATION:Online - Audio & Slides Webcast
SUMMARY:Capital Link - Global Trends in the ETF Marketplace
DESCRIPTION;ENCODING=QUOTED-PRINTABLE: Global Trends in the ETF Marketplace Presented by BNY MELLON.  Featured Speakers:  Mr. Joseph F. Keenan, Managing Director, Global Financial Institutions, BNY Mellon Asset Servicing  =0D=0A For more details visit:   http://webinars.capitallink.com/2011/etf_Marketplace/
DTSTART:20110421T150000Z
DTEND:20110421T160000Z
END:VEVENT
END:VCALENDAR
