BEGIN:VCALENDAR
VERSION:1.0
PRODID:SSPCA Web Calendar
TZ:-07
BEGIN:VEVENT
LOCATION:Online - Audio & Slides Webcast
SUMMARY:Capital Link - The Case For Investing in International Corporate Bonds
DESCRIPTION;ENCODING=QUOTED-PRINTABLE: The Case For Investing in International Corporate Bonds Presented by Invesco PowerShares.  Featured Speakers:  Mr. Jeff Kernagis, CFA, Vice President and Fixed-Income Portfolio Manager Invesco PowerShares Capital Mangement LLC & Mr. Joseph Becker, Fixed-Income Product Strategy Manager, Invesco PowerShares Capital Mangement LLC =0D=0A For more details visit:   http://webinars.capitallink.com/2011/int_corp_bonds/
DTSTART:20110303T160000Z
DTEND:20110303T170000Z
END:VEVENT
END:VCALENDAR
