BEGIN:VCALENDAR
VERSION:1.0
PRODID:SSPCA Web Calendar
TZ:-07
BEGIN:VEVENT
LOCATION:Online - Audio & Slides Webcast
SUMMARY:Capital Link Webinar - Investing for Income on a Global Scale
DESCRIPTION;ENCODING=QUOTED-PRINTABLE: Investing for Income on a Global Scale.  Featured Presenter:  John Murphy, Portfolio Manager, Aberdeen Asset Management  =0D=0A For more details visit:   http://webinars.capitallink.com/2012/aberdeen_investing/index.html
DTSTART:20121004T150000Z
DTEND:20121004T160000Z
END:VEVENT
END:VCALENDAR
