BEGIN:VCALENDAR
VERSION:1.0
PRODID:SSPCA Web Calendar
TZ:-07
BEGIN:VEVENT
LOCATION:Online - Audio & Slides Webcast
SUMMARY:Capital Link Webinar - Precious Metals: Opportunities for the Strategic or Tactical Investor
DESCRIPTION;ENCODING=QUOTED-PRINTABLE: Precious Metals: Opportunities for the Strategic or Tactical Investor.  Featured Speakers:  Mr. William Rhind, Managing Director, ETF Securities (US) LLC  =0D=0A For more details visit:   http://webinars.capitallink.com/2012/etf/
DTSTART:20120913T150000Z
DTEND:20120913T160000Z
END:VEVENT
END:VCALENDAR
