BEGIN:VCALENDAR
VERSION:1.0
PRODID:SSPCA Web Calendar
TZ:-07
BEGIN:VEVENT
LOCATION:Online - Audio & Slides Webcast
SUMMARY:Capital Link Webinar -  Global Fixed Income
DESCRIPTION;ENCODING=QUOTED-PRINTABLE:  Global Fixed Income. =0D=0A=0D=0A Presented by: =0D=0A Aberdeen =0D=0A For more details visit:   http://webinars.capitallink.com/2013/aberdeen_nov/
DTSTART:20131105T150000Z
DTEND:20131105T160000Z
END:VEVENT
END:VCALENDAR
