BEGIN:VCALENDAR
VERSION:1.0
PRODID:SSPCA Web Calendar
TZ:-07
BEGIN:VEVENT
LOCATION:Online - Audio & Slides Webcast
SUMMARY:Capital Link Webinar -  Investment Opportunities: Energy Master Limited Partnerships (MLPs)
DESCRIPTION;ENCODING=QUOTED-PRINTABLE:  Investment Opportunities: Energy Master Limited Partnerships (MLPs). =0D=0A=0D=0A Featured Presenter: =0D=0A Kenny Feng, CFA, President and CEO, Alerian  =0D=0A   For more details visit:   http://webinars.capitallink.com/2013/alerian/
DTSTART:20130709T150000Z
DTEND:20130709T160000Z
END:VEVENT
END:VCALENDAR
