BEGIN:VCALENDAR
VERSION:1.0
PRODID:SSPCA Web Calendar
TZ:-07
BEGIN:VEVENT
LOCATION:Online - Audio & Slides Webcast
SUMMARY:Capital Link Webinar -  Generating Income with Equity ETFs
DESCRIPTION;ENCODING=QUOTED-PRINTABLE:  Generating Income with Equity ETFs. =0D=0A=0D=0A Featured Presenter: =0D=0A Michael Akins, Portfolio Manager, ALPS ETF Trust =0D=0A For more details visit:   http://webinars.capitallink.com/2013/alps/
DTSTART:20130723T150000Z
DTEND:20130723T160000Z
END:VEVENT
END:VCALENDAR
