BEGIN:VCALENDAR
VERSION:1.0
PRODID:SSPCA Web Calendar
TZ:-07
BEGIN:VEVENT
LOCATION:Online - Audio & Slides Webcast
SUMMARY:Capital Link Webinar:  Factor Investing
DESCRIPTION;ENCODING=QUOTED-PRINTABLE:  Factor Investing. =0D=0A=0D=0A Featured Presenter: =0D=0A Mark Carver, CIMA, Director, Multi-Asset Strategies Group, BlackRock=0D=0A For more details visit:   http://webinars.capitallink.com/2013/cohen/
DTSTART:20131015T150000Z
DTEND:20131015T160000Z
END:VEVENT
END:VCALENDAR
