BEGIN:VCALENDAR
VERSION:1.0
PRODID:SSPCA Web Calendar
TZ:-07
BEGIN:VEVENT
LOCATION:Online - Audio & Slides Webcast
SUMMARY:Capital Link Webinar - Closed-End Funds Analyst Roundtable
DESCRIPTION;ENCODING=QUOTED-PRINTABLE: Closed-End Funds Analyst Roundtable. =0D=0A=0D=0A Featured Presenters: =0D=0A Robert F. Bush, Jr., Senior Vice President, Director of Closed-End Fund Products, Calamos Investments =0D=0A Alexander Reiss, Director, Closed-End Fund Research, Stifel Nicolaus =0D=0A Dan Brown, Closed-End Fun and Exchange-Traded Tracking Product Analyst, Wells Fargo Advisors =0D=0A David Perlman, Vice President, ETF and CEF Research, Morgan Stanley Wealth Management =0D=0A  Elias Lanik, Senior Closed-End Fund Analyst, BofA Merrill Lynch Global Research =0D=0A For more details visit:   http://webinars.capitallink.com/2013/cefRoundtable/
DTSTART:20130613T150000Z
DTEND:20130613T160000Z
END:VEVENT
END:VCALENDAR
