BEGIN:VCALENDAR
VERSION:1.0
PRODID:SSPCA Web Calendar
TZ:-07
BEGIN:VEVENT
LOCATION:Online - Audio & Slides Webcast
SUMMARY:Capital Link Webinar - ETFs Outlook & Minimum Volatility
DESCRIPTION;ENCODING=QUOTED-PRINTABLE: ETFs Outlook & Minimum Volatility. =0D=0A=0D=0A Featured Presenters: =0D=0A Todd W. Mathias, CFA, Associate, Product Consultant, iShares by BlackRock =0D=0A Raman Aylur Subramanian, CFA Executive Director, Index Universe MSCI =0D=0A  For more details visit:   http://webinars.capitallink.com/2013/etfOutlook/
DTSTART:20130702T150000Z
DTEND:20130702T160000Z
END:VEVENT
END:VCALENDAR
