BEGIN:VCALENDAR
VERSION:1.0
PRODID:SSPCA Web Calendar
TZ:-07
BEGIN:VEVENT
LOCATION:Online - Audio & Slides Webcast
SUMMARY:Capital Link Webinar -  Investing in Precious Metals with ETFs
DESCRIPTION;ENCODING=QUOTED-PRINTABLE:  Investing in Precious Metals with ETFs. =0D=0A=0D=0A Featured Presenter: =0D=0A Mike McGlone, CFA, FRM, Director of Research US, ETF Securities =0D=0A For more details visit:   http://webinars.capitallink.com/2013/etfSecurities/
DTSTART:20130806T150000Z
DTEND:20130806T160000Z
END:VEVENT
END:VCALENDAR
