BEGIN:VCALENDAR
VERSION:1.0
PRODID:SSPCA Web Calendar
TZ:-07
BEGIN:VEVENT
LOCATION:Online - Audio & Slides Webcast
SUMMARY:Capital Link Webinar -  ETP Analyst Webinar
DESCRIPTION;ENCODING=QUOTED-PRINTABLE:  ETP Analyst Webinar. =0D=0A=0D=0A Featured Presenter: =0D=0A Dodd Kittsley, CFA, Director, Global Head of ETP Research, BlackRock =0D=0A For more details visit:   http://webinars.capitallink.com/2013/etp_analyst/
DTSTART:20131001T150000Z
DTEND:20131001T160000Z
END:VEVENT
END:VCALENDAR
