BEGIN:VCALENDAR
VERSION:1.0
PRODID:SSPCA Web Calendar
TZ:-07
BEGIN:VEVENT
LOCATION:Online - Audio & Slides Webcast
SUMMARY:Capital Link Webinar -  Leverage in Closed-End Funds Through Recent Market Developments 
DESCRIPTION;ENCODING=QUOTED-PRINTABLE:  Leverage in Closed-End Funds Through Recent Market Developments. For more details visit:   http://webinars.capitallink.com/2013/fitch/
DTSTART:20130910T150000Z
DTEND:20130910T160000Z
END:VEVENT
END:VCALENDAR
