BEGIN:VCALENDAR
VERSION:1.0
PRODID:SSPCA Web Calendar
TZ:-07
BEGIN:VEVENT
LOCATION:Online - Audio & Slides Webcast
SUMMARY:Capital Link Webinar -  Pichardo Asset Management: Capitalizing on Mexico&#39;s Long-Term Commitment
DESCRIPTION;ENCODING=QUOTED-PRINTABLE:  Pichardo Asset Management: Capitalizing on Mexico&#39;s Long-Term Commitment. =0D=0A=0D=0A Featured Presenters: =0D=0A Maria Eugenia Pichardo, CEO, Senior Portfolio Manager of The Mexico Equity and Income Fund, Pichardo Asset Management =0D=0A José Arnulfo Rodríguez San Martín, Senior Debt Strategies, Citibank Banamex =0D=0A For more details visit:   http://webinars.capitallink.com/2013/mexico/
DTSTART:20130619T150000Z
DTEND:20130619T160000Z
END:VEVENT
END:VCALENDAR
