BEGIN:VCALENDAR
VERSION:1.0
PRODID:SSPCA Web Calendar
TZ:-07
BEGIN:VEVENT
LOCATION:Online - Audio Webcast
SUMMARY:Capital Link Webinar -  Mexico: Towards a Major Industrial Transformation and Social Progress
DESCRIPTION;ENCODING=QUOTED-PRINTABLE:  Mexico: Towards a Major Industrial Transformation and Social Progress. =0D=0A=0D=0A Featured Presenter: =0D=0A Maria Eugenia Pichardo, CEO, Senior Portfolio Manager of The Mexico Equity and Income Fund , Pichardo Asset Management =0D=0A For more details visit:   http://webinars.capitallink.com/2013/pam_oct/
DTSTART:20131003T140000Z
DTEND:20131003T150000Z
END:VEVENT
END:VCALENDAR
