BEGIN:VCALENDAR
VERSION:1.0
PRODID:SSPCA Web Calendar
TZ:-07
BEGIN:VEVENT
LOCATION:Online - Audio & Slides Webcast
SUMMARY:Capital Link Webinar -  Pimco
DESCRIPTION;ENCODING=QUOTED-PRINTABLE:  Pimco. =0D=0A=0D=0A Presented by: =0D=0A Calamos =0D=0A For more details visit:   http://webinars.capitallink.com/2013/pimco/
DTSTART:20131113T190000Z
DTEND:20131113T200000Z
END:VEVENT
END:VCALENDAR
