BEGIN:VCALENDAR
VERSION:1.0
PRODID:SSPCA Web Calendar
TZ:-07
BEGIN:VEVENT
LOCATION:Online - Audio & Slides Webcast
SUMMARY:Capital Link Webinar -  Cohen & Steers Webinar 
DESCRIPTION;ENCODING=QUOTED-PRINTABLE:  Cohen & Steers Webinar. For more details visit:   http://webinars.capitallink.com/2014/cohen3/
DTSTART:20141014T150000Z
DTEND:20141014T160000Z
END:VEVENT
END:VCALENDAR
