BEGIN:VCALENDAR
VERSION:1.0
PRODID:SSPCA Web Calendar
TZ:-07
BEGIN:VEVENT
LOCATION:Online - Audio & Slides Webcast
SUMMARY:Capital Link Webinar - Dodd Frank Updates & Cross-Border Issues for Commodity Derivatives
DESCRIPTION;ENCODING=QUOTED-PRINTABLE: 
DTSTART:20140115T150000Z
DTEND:20140115T154500Z
END:VEVENT
END:VCALENDAR
