BEGIN:VCALENDAR
VERSION:1.0
PRODID:SSPCA Web Calendar
TZ:-07
BEGIN:VEVENT
LOCATION:Online - Audio & Slides Webcast
SUMMARY:Capital Link Webinar -  Managing a Declining Euro 
DESCRIPTION;ENCODING=QUOTED-PRINTABLE:  Managing a Declining Euro. For more details visit:   http://webinars.capitallink.com/2014/dws/
DTSTART:20140715T150000Z
DTEND:20140715T160000Z
END:VEVENT
END:VCALENDAR
