BEGIN:VCALENDAR
VERSION:1.0
PRODID:SSPCA Web Calendar
TZ:-07
BEGIN:VEVENT
LOCATION:Online - Audio & Slides Webcast
SUMMARY:Capital Link Webinar -  2014 Outlook: Closed-End Fund Leverage 
DESCRIPTION;ENCODING=QUOTED-PRINTABLE:  2014 Outlook: Closed-End Fund Leverage. For more details visit:   http://webinars.capitallink.com/2014/fitch/
DTSTART:20140108T160000Z
DTEND:20140108T170000Z
END:VEVENT
END:VCALENDAR
