BEGIN:VCALENDAR
VERSION:1.0
PRODID:SSPCA Web Calendar
TZ:-07
BEGIN:VEVENT
LOCATION:Online - Audio & Slides Webcast
SUMMARY:Capital Link Webinar -  Prospect Capital Webinar
DESCRIPTION;ENCODING=QUOTED-PRINTABLE:  Prospect Capital Webinar. For more details visit:   http://webinars.capitallink.com/2014/prospect2/
DTSTART:20141008T150000Z
DTEND:20141008T160000Z
END:VEVENT
END:VCALENDAR
