BEGIN:VCALENDAR
VERSION:1.0
PRODID:SSPCA Web Calendar
TZ:-07
BEGIN:VEVENT
LOCATION:Online - Audio & Slides Webcast
SUMMARY:Capital Link Webinar -  Debunking the Myths of Investing in Israel by Aberdeen
DESCRIPTION;ENCODING=QUOTED-PRINTABLE:  Aberdeen Webinar. For more details visit:   http://webinars.capitallink.com/2015/aberdeen/
DTSTART:20150506T150000Z
DTEND:20150506T160000Z
END:VEVENT
END:VCALENDAR
