BEGIN:VCALENDAR
VERSION:1.0
PRODID:SSPCA Web Calendar
TZ:-07
BEGIN:VEVENT
LOCATION:Online - Audio & Slides Webcast
SUMMARY:Capital Link Webinar -  Clough Capital Webinar 
DESCRIPTION;ENCODING=QUOTED-PRINTABLE:  Clough Capital Webinar. For more details visit:   http://webinars.capitallink.com/2015/clough/
DTSTART:20150929T150000Z
DTEND:20150929T160000Z
END:VEVENT
END:VCALENDAR
