BEGIN:VCALENDAR
VERSION:1.0
PRODID:SSPCA Web Calendar
TZ:-07
BEGIN:VEVENT
LOCATION:Online - Audio & Slides Webcast
SUMMARY:Capital Link Webinar -  GICS Sector Expansion: Spotlight on Real Estate by Cohen & Steers 
DESCRIPTION;ENCODING=QUOTED-PRINTABLE:  Cohen & Steers Webinar. For more details visit:   http://webinars.capitallink.com/2016/cohen/
DTSTART:20160816T150000Z
DTEND:20160816T160000Z
END:VEVENT
END:VCALENDAR
