BEGIN:VCALENDAR
VERSION:1.0
PRODID:SSPCA Web Calendar
TZ:-07
BEGIN:VEVENT
LOCATION:Online - Audio & Slides Webcast
SUMMARY:Capital Link Webinar -  ETF Roundtable Webinar 
DESCRIPTION;ENCODING=QUOTED-PRINTABLE:  ETF Roundtable Webinar. For more details visit:   http://webinars.capitallink.com/2016/etf_roundtable/
DTSTART:20160112T160000Z
DTEND:20160112T170000Z
END:VEVENT
END:VCALENDAR
