BEGIN:VCALENDAR
VERSION:1.0
PRODID:SSPCA Web Calendar
TZ:-07
BEGIN:VEVENT
LOCATION:Online - Audio & Slides Webcast
SUMMARY:Capital Link Webinar -  Monroe Capital 
DESCRIPTION;ENCODING=QUOTED-PRINTABLE:  Monroe Capital Webinar. For more details visit:   http://webinars.capitallink.com/2016/monroe/
DTSTART:20160927T140000Z
DTEND:20160927T150000Z
END:VEVENT
END:VCALENDAR
