BEGIN:VCALENDAR
VERSION:1.0
PRODID:SSPCA Web Calendar
TZ:-07
BEGIN:VEVENT
LOCATION:Online - Audio & Slides Webcast
SUMMARY:Capital Link Webinar -  wbi Webinar 
DESCRIPTION;ENCODING=QUOTED-PRINTABLE: Alps Webinar. For more details visit:   http://webinars.capitallink.com/2016/wbi/
DTSTART:20160607T150000Z
DTEND:20160607T160000Z
END:VEVENT
END:VCALENDAR
