BEGIN:VCALENDAR
VERSION:1.0
PRODID:SSPCA Web Calendar
TZ:-07
BEGIN:VEVENT
LOCATION:Online - Audio & Slides Webcast
SUMMARY:Capital Link Webinar -  Cohen & Steers Webinar 
DESCRIPTION;ENCODING=QUOTED-PRINTABLE:  Cohen & Steers Webinar. For more details visit:   http://webinars.capitallink.com/2017/cohen2/
DTSTART:20170620T150000Z
DTEND:20170620T160000Z
END:VEVENT
END:VCALENDAR
