BEGIN:VCALENDAR
VERSION:1.0
PRODID:SSPCA Web Calendar
TZ:-07
BEGIN:VEVENT
LOCATION:Online - Audio & Slides Webcast
SUMMARY:Capital Link Webinar -  New Ireland Fund Webinar 
DESCRIPTION;ENCODING=QUOTED-PRINTABLE:  Opportunities in Ireland: The Growth Story Continues by New Ireland Fund, November 16, 2017, 11:00 AM ET. For more details visit:   http://webinars.capitallink.com/2017/irl/
DTSTART:20171116T150000Z
DTEND:20171116T160000Z
END:VEVENT
END:VCALENDAR
