BEGIN:VCALENDAR
VERSION:1.0
PRODID:SSPCA Web Calendar
TZ:-07
BEGIN:VEVENT
LOCATION:Online - Audio & Slides Webcast
SUMMARY:Capital Link Webinar -  Tortoise Webinar 
DESCRIPTION;ENCODING=QUOTED-PRINTABLE:  Tortoise Webinar. For more details visit:   http://webinars.capitallink.com/2017/tortoise/
DTSTART:20171010T150000Z
DTEND:20171010T160000Z
END:VEVENT
END:VCALENDAR
