BEGIN:VCALENDAR
VERSION:1.0
PRODID:SSPCA Web Calendar
TZ:-07
BEGIN:VEVENT
LOCATION:Online - Audio & Slides Webcast
SUMMARY:Capital Link Webinar - Time to Get Tactical? Rotate Between Quality Growth Stocks & Fixed Income in One ETF
DESCRIPTION;ENCODING=QUOTED-PRINTABLE: Time to Get Tactical? Rotate Between Quality Growth Stocks & Fixed Income in One ETF Webinar. For more details visit:  http://webinars.capitallink.com/2018/amplifyetfs/
DTSTART:20180731T150000Z
DTEND:20180731T160000Z
END:VEVENT
END:VCALENDAR
