BEGIN:VCALENDAR
VERSION:1.0
PRODID:SSPCA Web Calendar
TZ:-07
BEGIN:VEVENT
LOCATION:Online - Audio & Slides Webcast
SUMMARY:Capital Link Webinar - The Year Ahead - MLPs, Infrastructure and Closed-End Funds
DESCRIPTION;ENCODING=QUOTED-PRINTABLE: The Year Ahead - MLPs, Infrastructure and Closed-End Funds Webinar. For more details visit:  http://webinars.capitallink.com/2019/cohen/
DTSTART:20190108T160000Z
DTEND:20190108T170000Z
END:VEVENT
END:VCALENDAR
