BEGIN:VCALENDAR
VERSION:1.0
PRODID:SSPCA Web Calendar
TZ:-07
BEGIN:VEVENT
LOCATION:Online - Audio & Slides Webcast
SUMMARY:Capital Link Webinar - Generating Income through Closed-End Funds in a Low Interest Rate Environment
DESCRIPTION;ENCODING=QUOTED-PRINTABLE: Generating Income through Closed-End Funds in a Low Interest Rate Environment. For more details visit:  http://webinars.capitallink.com/2019/guggenheim/
DTSTART:20191001T150000Z
DTEND:20191001T160000Z
END:VEVENT
END:VCALENDAR
