BEGIN:VCALENDAR
VERSION:1.0
PRODID:SSPCA Web Calendar
TZ:-07
BEGIN:VEVENT
LOCATION:Online - Audio & Slides Webcast
SUMMARY:Capital Link Webinar - Outlook for MLP & Preferred Stock Income
DESCRIPTION;ENCODING=QUOTED-PRINTABLE: Outlook for MLP & Preferred Stock Income. For more details visit:  http://webinars.capitallink.com/2019/infracap/
DTSTART:20190918T150000Z
DTEND:20190918T160000Z
END:VEVENT
END:VCALENDAR
