BEGIN:VCALENDAR
VERSION:1.0
PRODID:SSPCA Web Calendar
TZ:-07
BEGIN:VEVENT
LOCATION:Online - Audio & Slides Webcast
SUMMARY:Capital Link Webinar - 2020 MLP and Energy Infrastructure Outlook
DESCRIPTION;ENCODING=QUOTED-PRINTABLE: 2020 MLP and Energy Infrastructure Outlook. For more details visit:  http://webinars.capitallink.com/2020/alerian/
DTSTART:20200211T160000Z
DTEND:20200211T170000Z
END:VEVENT
END:VCALENDAR
