BEGIN:VCALENDAR
VERSION:1.0
PRODID:SSPCA Web Calendar
TZ:-07
BEGIN:VEVENT
LOCATION:Online - Audio & Slides Webcast
SUMMARY:Capital Link Webinar - European Equities - Stock picking remains key
DESCRIPTION;ENCODING=QUOTED-PRINTABLE: European Equities - Stock picking remains key. For more details visit:  http://webinars.capitallink.com/2020/europeanequities/
DTSTART:20200624T150000Z
DTEND:20200624T160000Z
END:VEVENT
END:VCALENDAR
