BEGIN:VCALENDAR
VERSION:1.0
PRODID:SSPCA Web Calendar
TZ:-07
BEGIN:VEVENT
LOCATION:Online - Audio & Slides Webcast
SUMMARY:Capital Link Webinar - Does Size Matter? Shipping Operational Performance & Fleet Size - Deep Dive into the Moore Maritime Index
DESCRIPTION;ENCODING=QUOTED-PRINTABLE: Does Size Matter? Shipping Operational Performance & Fleet Size - Deep Dive into the Moore Maritime Index. For more details visit: http://webinars.capitallink.com/2020/moore/ 
DTSTART:20200708T140000Z
DTEND:20200708T150000Z
END:VEVENT
END:VCALENDAR
